{"text_format":"1","workbook":"xlsx","n_sheets":20,"sheets":["Iniciar","Principal","P1","P2","P3","P4","P5.1","P5.2","P5.3","P5.4","P5.5","P5.6","P5.7","P5.8","P5.9","P5.10","P5.11","P5.12","Dados","Legendas"],"not_rendered":{"charts":16,"images":2,"macros":1,"external_links":0,"defined_names":0,"comments":0,"pivot_tables":0},"unopened":[],"bounds":{"document_bytes":16777216,"sheet_cells":100000,"rows_first":2000,"rows_last":500,"rows_between":2000,"halvings":0,"cell_chars":16384,"cell_head_chars":4096},"cells_cut":0,"cells_raw":0,"read":"whole","date_system":"1900"}

{"sheet":"Iniciar","index":0,"n_rows":3,"n_cols":1,"rows_kept":3,"cut":false,"hidden":false,"merged":[[2,0,2,6]]}
[]
[]
["Disponibilizem as macros..."]

{"sheet":"Principal","index":1,"n_rows":22,"n_cols":3,"rows_kept":22,"cut":false,"hidden":false,"merged":[[2,2,2,3]]}
[]
[]
[null,null,"Inquérito sobre ética dos utilizadores na Internet"]
[]
[null,1,"Sexo"]
[null,2,"Idade"]
[null,3,"Quanto tempo utiliza a Internet por dia"]
[null,4,"Qual a utilização que dá à Internet"]
[null,"5.1","Quando utiliza as redes sociais, fornece dados pessoais e/ou fotografias?"]
[null,"5.2","Alguma vez abriu um email desconhecido?"]
[null,"5.3","Consulta links (hiperligações) desconhecidos?"]
[null,"5.4","Já divulgou/publicou informação não autorizada em sites públicos?"]
[null,"5.5","Alguma vez utilizou/publicou trabalhos directamente retirados da net?"]
[null,"5.6","Tem menores em casa?"]
[null,"5.7","Quais as suas idades?"]
[null,"5.8","Deixa o(s) menor(es) sozinho(s) na net?"]
[null,"5.9","Bloqueia-lhe sites? (violência, sexo, pedofilia, linguagem obscena, etc...)"]
[null,"5.10","Já instruiu o(s) mesmo(s) sobre os perigos da net?"]
[null,"5.11","O(s) menor(es) possui(em) email próprio?"]
[null,"5.12","O(s) menor(es) está(ão) incluído(s) nalguma rede social? (Hi5, Facebook)"]
[]
[null,null,"Criado por: Célio Faustino"]

{"sheet":"P1","index":2,"n_rows":4,"n_cols":2,"rows_kept":4,"cut":false,"hidden":false,"merged":[]}
["Sexo"]
["NS/NR",{"$f":"COUNTIF(Dados!$B$5:$B$51,\"=0\")","v":0}]
["Masculino",{"$f":"COUNTIF(Dados!$B$5:$B$51,\"=1\")","v":11}]
["Feminino",{"$f":"COUNTIF(Dados!$B$5:$B$51,\"=2\")","v":36}]

{"sheet":"P2","index":3,"n_rows":7,"n_cols":2,"rows_kept":7,"cut":false,"hidden":false,"merged":[]}
["Idade"]
["NS/NR",{"$f":"COUNTIF(Dados!$C$2:$C$51,\"=0\")","v":0}]
["18 e 25",{"$f":"COUNTIF(Dados!$C$2:$C$51,\"=1\")","v":5}]
["26 e 35",{"$f":"COUNTIF(Dados!$C$2:$C$51,\"=2\")","v":12}]
["36 e 45",{"$f":"COUNTIF(Dados!$C$2:$C$51,\"=3\")","v":21}]
["46 e 55",{"$f":"COUNTIF(Dados!$C$2:$C$51,\"=4\")","v":10}]
["56 e 65",{"$f":"COUNTIF(Dados!$C$2:$C$51,\"=5\")","v":2}]

{"sheet":"P3","index":4,"n_rows":6,"n_cols":2,"rows_kept":6,"cut":false,"hidden":false,"merged":[]}
["Quanto tempo utiliza a Internet por dia"]
["NS/NR",{"$f":"COUNTIF(Dados!$D$2:$D$51,\"=0\")","v":1}]
["Menos de 1 hora",{"$f":"COUNTIF(Dados!$D$2:$D$51,\"=1\")","v":9}]
["Entre 1 e 2 horas",{"$f":"COUNTIF(Dados!$D$2:$D$51,\"=2\")","v":21}]
["Entre 2 e 5 horas",{"$f":"COUNTIF(Dados!$D$2:$D$51,\"=3\")","v":10}]
["Mais do que 5 horas",{"$f":"COUNTIF(Dados!$D$2:$D$51,\"=4\")","v":9}]

{"sheet":"P4","index":5,"n_rows":5,"n_cols":2,"rows_kept":5,"cut":false,"hidden":false,"merged":[]}
["Qual a utilização que dá à Internet"]
["NS/NR",{"$f":"COUNTIF(Dados!$E$2:$E$51,\"=0\")","v":0}]
["Entretenimento",{"$f":"COUNTIF(Dados!$E$2:$E$51,\"=1\")","v":3}]
["Trabalho (Profissional e/ou escolar)",{"$f":"COUNTIF(Dados!$E$2:$E$51,\"=2\")","v":11}]
["Ambas",{"$f":"COUNTIF(Dados!$E$2:$E$51,\"=3\")","v":36}]

{"sheet":"P5.1","index":6,"n_rows":4,"n_cols":2,"rows_kept":4,"cut":false,"hidden":false,"merged":[]}
["Quando utiliza as redes sociais, fornece dados pessoais e/ou fotografias?"]
["NS/NR",{"$f":"COUNTIF(Dados!$F$2:$F$51,\"=0\")","v":0}]
["Sim",{"$f":"COUNTIF(Dados!$F$2:$F$51,\"=1\")","v":19}]
["Não",{"$f":"COUNTIF(Dados!$F$2:$F$51,\"=2\")","v":31}]

{"sheet":"P5.2","index":7,"n_rows":4,"n_cols":2,"rows_kept":4,"cut":false,"hidden":false,"merged":[]}
["Alguma vez abriu um email desconhecido?"]
["NS/NR",{"$f":"COUNTIF(Dados!$G$2:$G$51,\"=0\")","v":1}]
["Sim",{"$f":"COUNTIF(Dados!$G$2:$G$51,\"=1\")","v":16}]
["Não",{"$f":"COUNTIF(Dados!$G$2:$G$51,\"=2\")","v":33}]

{"sheet":"P5.3","index":8,"n_rows":4,"n_cols":2,"rows_kept":4,"cut":false,"hidden":false,"merged":[]}
["Consulta links (hiperligações) desconhecidos?"]
["NS/NR",{"$f":"COUNTIF(Dados!$H$2:$H$51,\"=0\")","v":1}]
["Sim",{"$f":"COUNTIF(Dados!$H$2:$H$51,\"=1\")","v":6}]
["Não",{"$f":"COUNTIF(Dados!$H$2:$H$51,\"=2\")","v":43}]

{"sheet":"P5.4","index":9,"n_rows":4,"n_cols":2,"rows_kept":4,"cut":false,"hidden":false,"merged":[]}
["Já divulgou/publicou informação não autorizada em sites públicos?"]
["NS/NR",{"$f":"COUNTIF(Dados!$I$2:$I$51,\"=0\")","v":0}]
["Sim",{"$f":"COUNTIF(Dados!$I$2:$I$51,\"=1\")","v":3}]
["Não",{"$f":"COUNTIF(Dados!$I$2:$I$51,\"=2\")","v":47}]

{"sheet":"P5.5","index":10,"n_rows":4,"n_cols":2,"rows_kept":4,"cut":false,"hidden":false,"merged":[]}
["Alguma vez utilizou/publicou trabalhos directamente retirados da net?"]
["NS/NR",{"$f":"COUNTIF(Dados!$J$2:$J$51,\"=0\")","v":0}]
["Sim",{"$f":"COUNTIF(Dados!$J$2:$J$51,\"=1\")","v":16}]
["Não",{"$f":"COUNTIF(Dados!$J$2:$J$51,\"=2\")","v":34}]

{"sheet":"P5.6","index":11,"n_rows":4,"n_cols":2,"rows_kept":4,"cut":false,"hidden":false,"merged":[]}
["Tem menores em casa?"]
["NS/NR",{"$f":"COUNTIF(Dados!$K$2:$K$51,\"=0\")","v":0}]
["Sim",{"$f":"COUNTIF(Dados!$K$2:$K$51,\"=1\")","v":17}]
["Não",{"$f":"COUNTIF(Dados!$K$2:$K$51,\"=2\")","v":33}]

{"sheet":"P5.7","index":12,"n_rows":7,"n_cols":2,"rows_kept":7,"cut":false,"hidden":false,"merged":[]}
["Quais as suas idades?"]
["Não tem filhos",{"$f":"COUNTIF(Dados!$L$2:$L$51,\"=\")","v":29}]
["NS/NR",{"$f":"COUNTIF(Dados!$L$2:$L$51,\"=0\")","v":2}]
["Menos de 5",{"$f":"COUNTIF(Dados!$L$2:$L$51,\"=1\")","v":1}]
["Entre 5 e 10",{"$f":"COUNTIF(Dados!$L$2:$L$51,\"=2\")","v":3}]
["Entre 10 e 15",{"$f":"COUNTIF(Dados!$L$2:$L$51,\"=3\")","v":6}]
["Mais de 15",{"$f":"COUNTIF(Dados!$L$2:$L$51,\"=4\")","v":6}]

{"sheet":"P5.8","index":13,"n_rows":5,"n_cols":2,"rows_kept":5,"cut":false,"hidden":false,"merged":[]}
["Deixa o(s) menor(es) sozinho(s) na net?"]
["Não tem filhos",{"$f":"COUNTIF(Dados!$M$2:$M$51,\"=\")","v":32}]
["NS/NR",{"$f":"COUNTIF(Dados!$M$2:$M$51,\"=0\")","v":0}]
["Sim",{"$f":"COUNTIF(Dados!$M$2:$M$51,\"=1\")","v":10}]
["Não",{"$f":"COUNTIF(Dados!$M$2:$M$51,\"=2\")","v":8}]

{"sheet":"P5.9","index":14,"n_rows":5,"n_cols":2,"rows_kept":5,"cut":false,"hidden":false,"merged":[]}
["Bloqueia-lhe sites? (violência, sexo, pedofilia, linguagem obscena, etc...)"]
["Não tem filhos",{"$f":"COUNTIF(Dados!$N$2:$N$51,\"=\")","v":32}]
["NS/NR",{"$f":"COUNTIF(Dados!$N$2:$N$51,\"=0\")","v":1}]
["Sim",{"$f":"COUNTIF(Dados!$N$2:$N$51,\"=1\")","v":7}]
["Não",{"$f":"COUNTIF(Dados!$N$2:$N$51,\"=2\")","v":10}]

{"sheet":"P5.10","index":15,"n_rows":5,"n_cols":2,"rows_kept":5,"cut":false,"hidden":false,"merged":[]}
["Já instruiu o(s) mesmo(s) sobre os perigos da net?"]
["Não tem filhos",{"$f":"COUNTIF(Dados!$O$2:$O$51,\"=\")","v":32}]
["NS/NR",{"$f":"COUNTIF(Dados!$O$2:$O$51,\"=0\")","v":1}]
["Sim",{"$f":"COUNTIF(Dados!$O$2:$O$51,\"=1\")","v":15}]
["Não",{"$f":"COUNTIF(Dados!$O$2:$O$51,\"=2\")","v":2}]

{"sheet":"P5.11","index":16,"n_rows":5,"n_cols":2,"rows_kept":5,"cut":false,"hidden":false,"merged":[]}
["O(s) menor(es) possui(em) email próprio?"]
["Não tem filhos",{"$f":"COUNTIF(Dados!$P$2:$P$51,\"=\")","v":32}]
["NS/NR",{"$f":"COUNTIF(Dados!$P$2:$P$51,\"=0\")","v":1}]
["Sim",{"$f":"COUNTIF(Dados!$P$2:$P$51,\"=1\")","v":12}]
["Não",{"$f":"COUNTIF(Dados!$P$2:$P$51,\"=2\")","v":5}]

{"sheet":"P5.12","index":17,"n_rows":5,"n_cols":2,"rows_kept":5,"cut":false,"hidden":false,"merged":[]}
["O(s) menor(es) está(ão) incluído(s) nalguma rede social? (Hi5, Facebook)"]
["Não tem filhos",{"$f":"COUNTIF(Dados!$Q$2:$Q$51,\"=\")","v":32}]
["NS/NR",{"$f":"COUNTIF(Dados!$Q$2:$Q$51,\"=0\")","v":0}]
["Sim",{"$f":"COUNTIF(Dados!$Q$2:$Q$51,\"=1\")","v":14}]
["Não",{"$f":"COUNTIF(Dados!$Q$2:$Q$51,\"=2\")","v":4}]

{"sheet":"Dados","index":18,"n_rows":51,"n_cols":17,"rows_kept":51,"cut":false,"hidden":false,"merged":[]}
["Nº","P1","P2","P3","P4","P5.1","P5.2","P5.3","P5.4","P5.5","P5.6","P5.7","P5.8","P5.9","P5.10","P5.11","P5.12"]
[1,1,1,4,3,1,2,2,2,1,2]
[2,1,2,2,2,2,2,2,2,2,2]
[3,1,3,1,3,2,1,0,2,1,2]
[4,1,2,1,1,1,2,2,1,2,2]
[5,1,2,2,3,2,2,2,2,1,2]
[6,1,3,2,3,2,2,2,2,1,2]
[7,1,3,1,3,2,2,2,2,1,2]
[8,1,3,2,3,2,1,1,2,2,2]
[9,1,2,3,3,1,1,2,1,1,1,0,2,2,1,2,1]
[10,1,3,4,3,1,1,1,2,2,1,"1 e 2",2,1,1,1,2]
[11,1,4,1,3,2,1,2,2,1,2,0,2,2,1,2,1]
[12,1,4,2,3,1,1,1,1,1,1,"2 e 4",1,0,1,0,1]
[13,2,2,2,1,1,2,2,2,1,1,2,2,2,1,2,1]
[14,2,3,2,3,2,2,2,2,2,1,3,1,2,1,1,1]
[15,2,2,3,3,1,2,2,2,1,1,2,1,1,1,1,1]
[16,2,3,2,2,2,2,2,2,2,1,3,1,2,2,1,1]
[17,1,3,2,3,2,2,2,2,2,1,3,2,1,1,1,1]
[18,2,3,0,2,2,2,2,2,1,1,"3 e 4",1,2,1,1,1]
[19,2,3,4,3,2,1,2,2,2,1,2,2,1,2,2,2]
[20,2,3,2,3,2,1,1,2,2,1,4,1,2,1,1,1]
[21,2,3,2,2,2,2,2,2,2,1,4,1,2,1,1,2]
[22,2,3,3,3,1,1,2,2,2,1,3,1,2,1,1,1]
[23,2,1,2,3,2,0,2,2,1,1,1,2,1,0,2,2]
[24,2,4,1,3,2,2,2,2,2,2]
[25,2,3,2,3,1,1,1,2,2,1,4,1,1,1,1,1]
[26,2,3,3,3,1,2,2,2,2,1,3,2,1,1,1,1]
[27,2,3,3,3,1,1,2,2,2,1,3,1,2,1,1,1]
[28,2,4,4,2,2,2,2,2,2,2]
[29,2,3,1,3,2,2,2,2,2,2]
[30,2,5,2,3,2,2,2,2,2,2]
[31,2,4,1,3,2,2,2,2,1,2]
[32,2,4,4,2,2,2,2,2,1,2,4]
[33,2,3,4,3,1,2,2,2,2,2,4]
[34,2,4,2,3,2,2,2,2,2,2]
[35,2,4,2,2,2,2,2,2,2,2]
[36,2,2,2,3,1,1,2,2,2,2]
[37,2,4,3,2,2,2,2,2,2,2,4]
[38,2,1,4,3,1,2,2,2,2,2]
[39,2,1,4,3,1,2,2,2,2,2]
[40,2,1,1,3,1,2,2,2,2,2]
[41,2,2,2,3,2,2,2,2,2,2]
[42,2,2,3,2,2,2,2,2,2,2]
[43,2,2,4,3,1,1,1,2,1,2]
[44,2,3,3,2,2,2,2,2,2,2]
[45,2,2,2,1,1,1,2,2,2,2]
[46,2,3,3,3,2,1,2,2,2,2]
[47,2,5,2,3,2,1,2,2,2,2]
[48,2,2,3,3,2,2,2,2,2,2]
[49,1,3,2,3,2,2,2,2,2,2]
[50,2,4,1,2,1,2,2,2,1,2]

{"sheet":"Legendas","index":19,"n_rows":16,"n_cols":8,"rows_kept":16,"cut":false,"hidden":false,"merged":[]}
[1,"Sexo","0=NS/NR","1=Masculino","2=Feminino"]
[2,"Idade","0=NS/NR","1=18 e 25","2=26 e 35","3=36 e 45","4=46 e 55","5=56 e 65"]
[3,"Quanto tempo utiliza a Internet por dia","0=NS/NR","1=Menos de 1 hora","2=Entre 1 e 2 horas","3=Entre 2 e 5 horas","4=Mais do que 5 horas"]
[4,"Qual a utilização que dá à Internet","0=NS/NR","1=Entretenimento","2=Trabalho (Profissional e/ou escolar)","3=Ambas"]
["5.1","Quando utiliza as redes sociais, fornece dados pessoais e/ou fotografias?","0=NS/NR","1=Sim","2=Não"]
["5.2","Alguma vez abriu um email desconhecido?","0=NS/NR","1=Sim","2=Não"]
["5.3","Consulta links (hiperligações) desconhecidos?","0=NS/NR","1=Sim","2=Não"]
["5.4","Já divulgou/publicou informação não autorizada em sites públicos?","0=NS/NR","1=Sim","2=Não"]
["5.5","Alguma vez utilizou/publicou trabalhos directamente retirados da net?","0=NS/NR","1=Sim","2=Não"]
["5.6","Tem menores em casa?","0=NS/NR","1=Sim","2=Não"]
["5.7","Quais as suas idades?","[Vazio]=Não tem filhos","0=NS/NR","1=Menos de 5","2=Entre 5 e 10","3=Entre 10 e 15","4=Mais de 15"]
["5.8","Deixa o(s) menor(es) sozinho(s) na net?","[Vazio]=Não tem filhos","0=NS/NR","1=Sim","2=Não"]
["5.9","Bloqueia-lhe sites? (violência, sexo, pedofilia, linguagem obscena, etc...)","[Vazio]=Não tem filhos","0=NS/NR","1=Sim","2=Não"]
["5.10","Já instruiu o(s) mesmo(s) sobre os perigos da net?","[Vazio]=Não tem filhos","0=NS/NR","1=Sim","2=Não"]
["5.11","O(s) menor(es) possui(em) email próprio?","[Vazio]=Não tem filhos","0=NS/NR","1=Sim","2=Não"]
["5.12","O(s) menor(es) está(ão) incluído(s) nalguma rede social? (Hi5, Facebook)","[Vazio]=Não tem filhos","0=NS/NR","1=Sim","2=Não"]